BEGIN:VCALENDAR
VERSION:2.0
PRODID:-//Christusbund Beinstein - ECPv5.16.4.1//NONSGML v1.0//EN
CALSCALE:GREGORIAN
METHOD:PUBLISH
X-WR-CALNAME:Christusbund Beinstein
X-ORIGINAL-URL:https://christusbund-beinstein.de
X-WR-CALDESC:Veranstaltungen für Christusbund Beinstein
BEGIN:VTIMEZONE
TZID:UTC
BEGIN:STANDARD
TZOFFSETFROM:+0000
TZOFFSETTO:+0000
TZNAME:UTC
DTSTART:20180101T000000
END:STANDARD
END:VTIMEZONE
BEGIN:VEVENT
DTSTART;TZID=UTC:20181114T091500
DTEND;TZID=UTC:20181114T091500
DTSTAMP:20260421T100005
CREATED:20180325T221758Z
LAST-MODIFIED:20181209T102033Z
UID:1810-1542186900-1542186900@christusbund-beinstein.de
SUMMARY:Frauenfrühstück
DESCRIPTION:Frauenfrühstück \nam Mittwoch\, 14. November 2018 \num 9.15 Uhr \ndieses Mal im evangelischen Gemeindehaus im Mühlweg 9\n \nzum Thema: \n„Engel – Grenzgänger zwischen Himmel und Erde“ \nmit Elsbeth Kohler \nElsbeth Kohler aus Brackenheim ist verheiratet und hat vier Kinder. Die Religionslehrerin arbeitete 13 Jahre lang mit der Deutschen Indianer Pioniermission in einer Indianerkirche in Brasilien. \nGibt es Engel? Woher bekommen wir zuverlässige Informationen über Engel? Was sind die Aufgaben der Engel? Manchmal gebraucht Gott Menschen als „Engel ohne Flügel“ – wie geschieht das? Auf diese und andere Fragen geht Frau Kohler in ihrem Referat ein. \nAuf Ihr Kommen freuen wir uns!
URL:https://christusbund-beinstein.de/termine/frauenfruehstueck-2-2/
LOCATION:evang. Gemeindehaus Beinstein\, Mühlweg 9\, Waiblingen\, Baden-Württemberg\, 71334\, Deutschland
CATEGORIES:Erwachsene
ATTACH;FMTTYPE=image/jpeg:https://www.christusbund.de/beinstein/wp-content/uploads/sites/19/2018/10/Motiv.jpg
END:VEVENT
END:VCALENDAR