BEGIN:VCALENDAR
VERSION:2.0
PRODID:-//Christusbund Beinstein - ECPv5.16.4.1//NONSGML v1.0//EN
CALSCALE:GREGORIAN
METHOD:PUBLISH
X-WR-CALNAME:Christusbund Beinstein
X-ORIGINAL-URL:https://christusbund-beinstein.de
X-WR-CALDESC:Veranstaltungen für Christusbund Beinstein
BEGIN:VTIMEZONE
TZID:UTC
BEGIN:STANDARD
TZOFFSETFROM:+0000
TZOFFSETTO:+0000
TZNAME:UTC
DTSTART:20210101T000000
END:STANDARD
END:VTIMEZONE
BEGIN:VEVENT
DTSTART;TZID=UTC:20210829T170000
DTEND;TZID=UTC:20210829T170000
DTSTAMP:20260426T030423
CREATED:20210627T202207Z
LAST-MODIFIED:20210905T184137Z
UID:2881-1630256400-1630256400@christusbund-beinstein.de
SUMMARY:Gottesdienst
DESCRIPTION:mit Reiner Philipp \nBitte beachten: Es gilt die allgemeine Maskenpflicht und Abstandsregelung! \nDer Gottesdienst findet wetterbedingt innen statt! \n 
URL:https://christusbund-beinstein.de/termine/gottesdienst_2021-08-29/
LOCATION:Gemeinschaftshaus\, Versammlungssaal EG\, Remsgartenstr. 16\, Waiblingen\, 71334
CATEGORIES:Gottesdienst
ATTACH;FMTTYPE=image/jpeg:https://www.christusbund.de/beinstein/wp-content/uploads/sites/19/2016/01/bibel_blur.jpg
END:VEVENT
END:VCALENDAR